BEGIN:VCALENDAR
VERSION:2.0
PRODID:-//Christliche Wähler Stadt &amp; Umland (CWSU) - ECPv6.15.20//NONSGML v1.0//EN
CALSCALE:GREGORIAN
METHOD:PUBLISH
X-WR-CALNAME:Christliche Wähler Stadt &amp; Umland (CWSU)
X-ORIGINAL-URL:https://www.cwsu.de
X-WR-CALDESC:Veranstaltungen für Christliche Wähler Stadt &amp; Umland (CWSU)
REFRESH-INTERVAL;VALUE=DURATION:PT1H
X-Robots-Tag:noindex
X-PUBLISHED-TTL:PT1H
BEGIN:VTIMEZONE
TZID:UTC
BEGIN:STANDARD
TZOFFSETFROM:+0000
TZOFFSETTO:+0000
TZNAME:UTC
DTSTART:20230101T000000
END:STANDARD
END:VTIMEZONE
BEGIN:VEVENT
DTSTART;TZID=UTC:20241207T160000
DTEND;TZID=UTC:20241208T200000
DTSTAMP:20260422T194232
CREATED:20250311T100941Z
LAST-MODIFIED:20250311T101034Z
UID:2836-1733587200-1733688000@www.cwsu.de
SUMMARY:Verkaufsstand der CWSU am Christkindlmarkt in Rottenburg
DESCRIPTION:Wie jedes Jahr beteiligt sich die CWSU am Christkindlmart in Rottenburg mit einem eigenen Verkaufsstand. Jeder ist herzlich willkommen.\nOb Winterbowle\, Kinderpunch\, Hot Aperol\, Baileys\, B52 oder nur a halbe Bier für den Durst… wir freuen uns auf jeden\, der vorbei schaut. \nNoch wichtig zu wissen: Der Erlös wird für gute Zwecke\, regional gespendet!
URL:https://www.cwsu.de/termin/verkaufsstand-der-cwsu-am-christkindlmarkt-in-rottenburg/
LOCATION:Kapellenplatz 84056 Rottenburg\, Kapellenplatz 1\, Rottenburg\, Bayern\, 84056\, Germany
END:VEVENT
BEGIN:VEVENT
DTSTART;TZID=UTC:20241219T140000
DTEND;TZID=UTC:20241219T170000
DTSTAMP:20260422T194232
CREATED:20250311T094745Z
LAST-MODIFIED:20250311T094745Z
UID:2828-1734616800-1734627600@www.cwsu.de
SUMMARY:Aktion Wunschbaum der CWSU
DESCRIPTION:zum wiederholten Male stellt die CWSU gemeinsam mit der Leitung des Spitals Pattendorf einen Wunschbaum auf. Hierbei können Bewohner persönliche Wünsche an den Baum hängen. Die CWSU setzt diese dann in die Tat um. Die Bescherung wird zur Spital-Weihnachtsfeier mit festlichem Rahmen vollzogen. Finanziert wird das ganze durch die Einnahmen des eigenen Standes der CWSU am Christkindlmarkt in Rottenburg.
URL:https://www.cwsu.de/termin/aktion-wunschbaum-der-cwsu/
LOCATION:Spital Pattendorf\, Ritter-Hans-Ebron-Straße 15\, Rottenburg\, Bayern\, 84056\, Germany
END:VEVENT
END:VCALENDAR