BEGIN:VCALENDAR
VERSION:2.0
PRODID:-//Christliche Wähler Stadt &amp; Umland (CWSU) - ECPv6.15.20//NONSGML v1.0//EN
CALSCALE:GREGORIAN
METHOD:PUBLISH
X-ORIGINAL-URL:https://www.cwsu.de
X-WR-CALDESC:Veranstaltungen für Christliche Wähler Stadt &amp; Umland (CWSU)
REFRESH-INTERVAL;VALUE=DURATION:PT1H
X-Robots-Tag:noindex
X-PUBLISHED-TTL:PT1H
BEGIN:VTIMEZONE
TZID:UTC
BEGIN:STANDARD
TZOFFSETFROM:+0000
TZOFFSETTO:+0000
TZNAME:UTC
DTSTART:20240101T000000
END:STANDARD
END:VTIMEZONE
BEGIN:VEVENT
DTSTART;TZID=UTC:20250109T190000
DTEND;TZID=UTC:20250109T230000
DTSTAMP:20260422T181213
CREATED:20250311T092909Z
LAST-MODIFIED:20250311T093114Z
UID:2822-1736449200-1736463600@www.cwsu.de
SUMMARY:Neujahrsempfang der CWSU Rottenburg
DESCRIPTION:Neujahrsempfang für alle Mitglieder mit Begleitung. Anmeldung erforderlich.
URL:https://www.cwsu.de/termin/neujahrsempfang-der-cwsu-rottenburg/
LOCATION:Bürgersaal\, Kapellenplatz 1\, Rottenburg\, 84056\, Deutschland
END:VEVENT
END:VCALENDAR