BEGIN:VCALENDAR
VERSION:2.0
PRODID:-//Christliche Wähler Stadt &amp; Umland (CWSU) - ECPv6.15.20//NONSGML v1.0//EN
CALSCALE:GREGORIAN
METHOD:PUBLISH
X-ORIGINAL-URL:https://www.cwsu.de
X-WR-CALDESC:Veranstaltungen für Christliche Wähler Stadt &amp; Umland (CWSU)
REFRESH-INTERVAL;VALUE=DURATION:PT1H
X-Robots-Tag:noindex
X-PUBLISHED-TTL:PT1H
BEGIN:VTIMEZONE
TZID:UTC
BEGIN:STANDARD
TZOFFSETFROM:+0000
TZOFFSETTO:+0000
TZNAME:UTC
DTSTART:20240101T000000
END:STANDARD
END:VTIMEZONE
BEGIN:VEVENT
DTSTART;TZID=UTC:20251023T190000
DTEND;TZID=UTC:20251023T210000
DTSTAMP:20260422T022033
CREATED:20250311T102949Z
LAST-MODIFIED:20250929T101214Z
UID:2842-1761246000-1761253200@www.cwsu.de
SUMMARY:Nominierungsveranstaltung "Bürgermeisterkandidat" der CWSU Rottenburg
DESCRIPTION:Nominierungsveranstaltung „Bürgermeisterkandidat“ für die anstehenden Kommunalwahlen am 08. März 2026. Hierzu sind alle Mitglieder der Rottenburger CWSU recht herzlich eingeladen.
URL:https://www.cwsu.de/termin/jahreshauptversammlung-der-cwsu-rottenburg-2/
LOCATION:Bürgersaal\, Kapellenplatz 1\, Rottenburg\, 84056\, Deutschland
END:VEVENT
BEGIN:VEVENT
DTSTART;TZID=UTC:20251025T080000
DTEND;TZID=UTC:20251025T113000
DTSTAMP:20260422T022033
CREATED:20250929T142920Z
LAST-MODIFIED:20250929T143311Z
UID:2839-1761379200-1761391800@www.cwsu.de
SUMMARY:Infostand der CWSU am Wochenmarkt (Bahnhofsplatz)
DESCRIPTION:Treffen Sie unseren Bürgermeisterkandidat der CWSU\, Markus Kutzer\, am Rottenburger Wochenmarkt (Bahnhofsplatz). \nTreten Sie mit uns in den Dialog und erfahren mehr über unsere Ziele\, Vorhaben und unseren BM-Kandidat. \nWir freuen uns auf Euch und vorallem auf interessante und nette Gespräche.
URL:https://www.cwsu.de/termin/infostand-der-cwsu-am-wochenmarkt/
LOCATION:Bahnhofsplatz Rottenburg Laaber\, Max-von-Müller-Str. 31\, Rottenburg\, Bayern\, 84056\, Germany
END:VEVENT
END:VCALENDAR