BEGIN:VCALENDAR
VERSION:2.0
PRODID:-//Christliche Wähler Stadt &amp; Umland (CWSU) - ECPv6.15.20//NONSGML v1.0//EN
CALSCALE:GREGORIAN
METHOD:PUBLISH
X-WR-CALNAME:Christliche Wähler Stadt &amp; Umland (CWSU)
X-ORIGINAL-URL:https://www.cwsu.de
X-WR-CALDESC:Veranstaltungen für Christliche Wähler Stadt &amp; Umland (CWSU)
REFRESH-INTERVAL;VALUE=DURATION:PT1H
X-Robots-Tag:noindex
X-PUBLISHED-TTL:PT1H
BEGIN:VTIMEZONE
TZID:UTC
BEGIN:STANDARD
TZOFFSETFROM:+0000
TZOFFSETTO:+0000
TZNAME:UTC
DTSTART:20240101T000000
END:STANDARD
END:VTIMEZONE
BEGIN:VEVENT
DTSTART;TZID=UTC:20251102T120000
DTEND;TZID=UTC:20251102T170000
DTSTAMP:20260422T004126
CREATED:20251027T173814Z
LAST-MODIFIED:20251027T173830Z
UID:2931-1762084800-1762102800@www.cwsu.de
SUMMARY:Infostand der CWSU am Martinimarkt
DESCRIPTION:Treffen Sie unseren Bürgermeisterkandidat der CWSU\, Markus Kutzer\, am Rottenburger Martinemarkt (Max-von-Müller-Str. / gegenüber Schuh Dorn). Treten Sie mit uns in den Dialog und erfahren mehr über unsere Ziele\, Vorhaben und unseren Bürgermeister-Kandidat. Wir freuen uns auf Euch und vorallem auf interessante und nette Gespräche.
URL:https://www.cwsu.de/termin/infostand-der-cwsu-am-martinimarkt/
END:VEVENT
BEGIN:VEVENT
DTSTART;TZID=UTC:20251109T150000
DTEND;TZID=UTC:20251109T170000
DTSTAMP:20260422T004126
CREATED:20250311T103902Z
LAST-MODIFIED:20251010T104651Z
UID:2844-1762700400-1762707600@www.cwsu.de
SUMMARY:Kindernachmittag der CWSU - Mitmach-Konzert mit der DONIKKL Crew
DESCRIPTION:Freut Euch auf unsere lustige und mitreißende „Kinder-Mitmach-Konzert-Party“ mit der bekannten Donikkl Crew… \nPerfekte Familienunterhaltung\, dreifach ausgezeichnet mit dem Deutschen Kindermusikpreis! \nWitzig\, knallbunt\, energiegeladen und sehr nah an den Kindern – eine Gute-Laune-Konzert-Party zum Mitsingen\, Mittanzen und Mitlachen. Die super sympathische Entertainerinnen Mia (DONIKKLs Tochter) und Philine von der DONIKKL Crew bringen mit unglaublicher Power\, starkem Gesang und mitreißender Animation das gesamte Publikum zum Tanzen und Singen. \nDie Family-Party-Macher kommen!\nMit moderner Kindermusik\, die Kinder lieben und die Eltern gern lauter machen. \nDie neuen\, zeitgemäßen Songs sind vollgetankt mit Energie und machen nicht nur Kinder stark. Vor allem auf der Bühne bringen die Ohrwürmer voller positiver Energie nicht nur Zwerge\, sondern auch Jugendliche und Erwachsene zum Ausflippen. Sowohl die Kids als auch ihre erwachsenen Begleiter gehen aus sich heraus\, kreischen\, tanzen und haben zusammen jede Menge Spaß. \nTanze mit den Erdmännchen in ihrer unterirdischen Disco\, geh mit Piraten auf Schatzsuche\, spring wie ein Känguru\, dreh lustige Runden mit dem Soundbus\, fange den kleinen Hip Hop Hasen\, der immer wieder ausbüchst und singe mit fröhlichem Lachgesicht ganz laut „Heut ist so ein schöner Tag!“ \nMehr Infos auch unter: https://crew.donikkl.com/ \nKommen kann jeder\, ob Jung oder Alt.\nWir freuen uns auf Euch! \nEinlass:\n\n14 Uhr\n\nBeginn:\n\n15 Uhr\n\nPreise:\n\n10 Euro – Vorverkauf\n12 Euro – Nachmittagskasse\n\nKartenvorverkaufsstellen in 84056 Rottenburg:\n\nSparkasse Rottenburg (Max-von-Müller-Str. 17)\nPast Küchen (Max-von-Müller-Str. 19)\nPfeiffer Kerstin (Max-von-Müller-Str. 38)\nElektro Lohberger (Turnerweg 16)\nMali Pizzahaus (Marktstraße 17)\nMK DaTel GmbH (Georg-Pöschl-Str. 18)\n\n\nWir sagen Danke an unsere Unterstützer…
URL:https://www.cwsu.de/termin/kindernachmittag-der-cwsu-mitmach-konzert-mit-der-donikkl-crew/
LOCATION:Mehrzweckhalle Rottenburg\, Josef-Wiesmüller-Straße 3\, Rottenburg\, Bayern\, 84056\, Germany
END:VEVENT
BEGIN:VEVENT
DTSTART;TZID=UTC:20251120T190000
DTEND;TZID=UTC:20251120T220000
DTSTAMP:20260422T004126
CREATED:20250929T094737Z
LAST-MODIFIED:20251027T174157Z
UID:2876-1763665200-1763676000@www.cwsu.de
SUMMARY:Nominierung der Stadtratskandidaten und Jahreshauptversammlung der CWSU Rottenburg mit Neuwahlen der Vorstandschaft
DESCRIPTION:Volles Programm bei der CWSU mit Nominierungsveranstaltung der Stadtratskandidaten und die turnusgemäße Jahreshauptversammlung mit Neuwahlen der Vorstandschaft. Hierzu sind alle Mitglieder der Rottenburger CWSU recht herzlich eingeladen.
URL:https://www.cwsu.de/termin/jahreshauptversammlung-der-cwsu-rottenburg-2-2/
LOCATION:Bürgersaal\, Kapellenplatz 1\, Rottenburg\, 84056\, Deutschland
END:VEVENT
BEGIN:VEVENT
DTSTART;TZID=UTC:20251122T080000
DTEND;TZID=UTC:20251122T113000
DTSTAMP:20260422T004126
CREATED:20250929T143224Z
LAST-MODIFIED:20250929T143224Z
UID:2882-1763798400-1763811000@www.cwsu.de
SUMMARY:Infostand der CWSU am Wochenmarkt (Bahnhofsplatz)
DESCRIPTION:Treffen Sie unseren Bürgermeisterkandidat der CWSU\, Markus Kutzer\, am Rottenburger Wochenmarkt (Bahnhofsplatz). \nTreten Sie mit uns in den Dialog und erfahren mehr über unsere Ziele\, Vorhaben und unseren BM-Kandidat. \nWir freuen uns auf Euch und vorallem auf interessante und nette Gespräche.
URL:https://www.cwsu.de/termin/infostand-der-cwsu-am-wochenmarkt-bahnhofsplatz/
LOCATION:Bahnhofsplatz Rottenburg Laaber\, Max-von-Müller-Str. 31\, Rottenburg\, Bayern\, 84056\, Germany
END:VEVENT
END:VCALENDAR