BEGIN:VCALENDAR
VERSION:2.0
PRODID:-//Christliche Wähler Stadt &amp; Umland (CWSU) - ECPv6.15.20//NONSGML v1.0//EN
CALSCALE:GREGORIAN
METHOD:PUBLISH
X-ORIGINAL-URL:https://www.cwsu.de
X-WR-CALDESC:Veranstaltungen für Christliche Wähler Stadt &amp; Umland (CWSU)
REFRESH-INTERVAL;VALUE=DURATION:PT1H
X-Robots-Tag:noindex
X-PUBLISHED-TTL:PT1H
BEGIN:VTIMEZONE
TZID:UTC
BEGIN:STANDARD
TZOFFSETFROM:+0000
TZOFFSETTO:+0000
TZNAME:UTC
DTSTART:20250101T000000
END:STANDARD
END:VTIMEZONE
BEGIN:VEVENT
DTSTART;TZID=UTC:20260116T190000
DTEND;TZID=UTC:20260116T220000
DTSTAMP:20260421T210012
CREATED:20260104T190022Z
LAST-MODIFIED:20260104T212757Z
UID:3108-1768590000-1768600800@www.cwsu.de
SUMMARY:Wahlveranstaltung Gasthof Burger | Oberhatzkofen
DESCRIPTION:Das Team der CWSU Rottenburg stellt seine Kandidatinnen und Kandidaten\, sowie seinen Bürgermeisterkandidaten Markus Kutzer\, vor. \nDie Veranstaltung ist öffentlich. Jeder ist willkommen. \nWir freuen uns auf Euch… \nIhr #temcwsu
URL:https://www.cwsu.de/termin/wahlveranstaltung_1/
LOCATION:Gasthof Burger\, Hauptstraße 31\, Oberhatzkofen\, 84056\, Deutschland
END:VEVENT
BEGIN:VEVENT
DTSTART;TZID=UTC:20260119T190000
DTEND;TZID=UTC:20260119T220000
DTSTAMP:20260421T210012
CREATED:20260104T202936Z
LAST-MODIFIED:20260104T212858Z
UID:3113-1768849200-1768860000@www.cwsu.de
SUMMARY:Wahlveranstaltung Gasthaus Hagl | Rahstorf
DESCRIPTION:Das Team der CWSU Rottenburg stellt seine Kandidatinnen und Kandidaten\, sowie seinen Bürgermeisterkandidaten Markus Kutzer\, vor. \nDie Veranstaltung ist öffentlich. Jeder ist willkommen. \nWir freuen uns auf Euch… \nIhr #temcwsu
URL:https://www.cwsu.de/termin/wahlveranstaltung_2/
LOCATION:Gasthaus Hagl\, Rahstorf 28\, Rottenburg\, 84056\, Germany
END:VEVENT
BEGIN:VEVENT
DTSTART;TZID=UTC:20260122T190000
DTEND;TZID=UTC:20260122T220000
DTSTAMP:20260421T210012
CREATED:20260104T203422Z
LAST-MODIFIED:20260104T212938Z
UID:3116-1769108400-1769119200@www.cwsu.de
SUMMARY:Wahlveranstaltung Gasthaus Marklstorfer | Högldorf
DESCRIPTION:Das Team der CWSU Rottenburg stellt seine Kandidatinnen und Kandidaten\, sowie seinen Bürgermeisterkandidaten Markus Kutzer\, vor. \nDie Veranstaltung ist öffentlich. Jeder ist willkommen. \nWir freuen uns auf Euch… \nIhr #temcwsu
URL:https://www.cwsu.de/termin/wahlveranstaltung_3/
LOCATION:Gashaus Marklstorfer\, Högldorf 12\, Rottenburg\, 84056\, Germany
END:VEVENT
BEGIN:VEVENT
DTSTART;TZID=UTC:20260123T140000
DTEND;TZID=UTC:20260123T170000
DTSTAMP:20260421T210012
CREATED:20260104T203928Z
LAST-MODIFIED:20260104T213102Z
UID:3119-1769176800-1769187600@www.cwsu.de
SUMMARY:Wahlveranstaltung Bürgersaal | Rottenburg - Seniorennachmittag
DESCRIPTION:Das Team der CWSU Rottenburg stellt seine Kandidatinnen und Kandidaten\, sowie seinen Bürgermeisterkandidaten Markus Kutzer\, vor. \nDie Veranstaltung ist öffentlich. Jeder ist willkommen. \nHighlight: Auftritt der Siegonia Siegenburg. \nWir freuen uns auf Euch… \nIhr #temcwsu
URL:https://www.cwsu.de/termin/wahlveranstaltung_4/
LOCATION:Bürgersaal\, Kapellenplatz 1\, Rottenburg\, 84056\, Deutschland
END:VEVENT
BEGIN:VEVENT
DTSTART;TZID=UTC:20260126T190000
DTEND;TZID=UTC:20260126T220000
DTSTAMP:20260421T210012
CREATED:20260104T204306Z
LAST-MODIFIED:20260104T213152Z
UID:3121-1769454000-1769464800@www.cwsu.de
SUMMARY:Wahlveranstaltung Gasthaus Hirsch | Münster
DESCRIPTION:Das Team der CWSU Rottenburg stellt seine Kandidatinnen und Kandidaten\, sowie seinen Bürgermeisterkandidaten Markus Kutzer\, vor. \nDie Veranstaltung ist öffentlich. Jeder ist willkommen. \nWir freuen uns auf Euch… \nIhr #temcwsu
URL:https://www.cwsu.de/termin/wahlveranstaltung_5/
LOCATION:Gasthaus Hirsch\, Münster 49\, Rottenburg\, 84056\, Germany
END:VEVENT
BEGIN:VEVENT
DTSTART;TZID=UTC:20260128T190000
DTEND;TZID=UTC:20260128T220000
DTSTAMP:20260421T210012
CREATED:20260104T204622Z
LAST-MODIFIED:20260104T213250Z
UID:3124-1769626800-1769637600@www.cwsu.de
SUMMARY:Wahlveranstaltung Vereinsheim | Steinbach
DESCRIPTION:Das Team der CWSU Rottenburg stellt seine Kandidatinnen und Kandidaten\, sowie seinen Bürgermeisterkandidaten Markus Kutzer\, vor. \nDie Veranstaltung ist öffentlich. Jeder ist willkommen. \nWir freuen uns auf Euch… \nIhr #temcwsu
URL:https://www.cwsu.de/termin/wahlveranstaltung_6/
LOCATION:Vereinsheim | Steinbach\, Steinbach\, Rottenburg\, 84056\, Germany
END:VEVENT
BEGIN:VEVENT
DTSTART;TZID=UTC:20260129T190000
DTEND;TZID=UTC:20260129T220000
DTSTAMP:20260421T210012
CREATED:20260104T205011Z
LAST-MODIFIED:20260104T213321Z
UID:3127-1769713200-1769724000@www.cwsu.de
SUMMARY:Wahlveranstaltung Gasthaus Kiermaier | Schaltdorf
DESCRIPTION:Das Team der CWSU Rottenburg stellt seine Kandidatinnen und Kandidaten\, sowie seinen Bürgermeisterkandidaten Markus Kutzer\, vor. \nDie Veranstaltung ist öffentlich. Jeder ist willkommen. \nWir freuen uns auf Euch… \nIhr #temcwsu
URL:https://www.cwsu.de/termin/wahlveranstaltung_7/
LOCATION:Gasthaus Kiermaier\, Schaltdorf 30\, Rottenburg\, 84056
END:VEVENT
END:VCALENDAR